BEGIN:VCALENDAR
VERSION:2.0
PRODID:-//Blessed Sacrament - ECPv6.15.20//NONSGML v1.0//EN
CALSCALE:GREGORIAN
METHOD:PUBLISH
X-WR-CALNAME:Blessed Sacrament
X-ORIGINAL-URL:https://www.blessedsacrament.org.uk
X-WR-CALDESC:Events for Blessed Sacrament
REFRESH-INTERVAL;VALUE=DURATION:PT1H
X-Robots-Tag:noindex
X-PUBLISHED-TTL:PT1H
BEGIN:VTIMEZONE
TZID:UTC
BEGIN:STANDARD
TZOFFSETFROM:+0000
TZOFFSETTO:+0000
TZNAME:UTC
DTSTART:20230101T000000
END:STANDARD
END:VTIMEZONE
BEGIN:VEVENT
DTSTART;TZID=UTC:20240914T100000
DTEND;TZID=UTC:20240914T100000
DTSTAMP:20260424T165521
CREATED:20231107T114749Z
LAST-MODIFIED:20231107T114757Z
UID:31624-1726308000-1726308000@www.blessedsacrament.org.uk
SUMMARY:GIFT Session
DESCRIPTION:GIFT Session\n			\n				\n				\n				\n				\n				Date: September 14th\, 2024 \nTime: 10.00 am \nVenue: St Nicholas Primary School \n			\n			\n				\n				\n				\n				\n				\n				\n				\n				\n				\n				GIFT Session\n			\n				\n				\n				\n				\n				Join us for our GIFT Sessions. We offer engaging\, spirit-filled and fun courses for all the family. For more details please click here.
URL:https://www.blessedsacrament.org.uk/event/gift-session-16/
LOCATION:St Nicholas Catholic Primary School\, Ringswell Avenue\, Exeter\, EX1 3EG\, United Kingdom
ATTACH;FMTTYPE=image/png:https://www.blessedsacrament.org.uk/wp-content/uploads/2022/11/Gift.png
END:VEVENT
END:VCALENDAR